BEGIN:VCALENDAR
VERSION:2.0
PRODID:-//eventon.com NONSGML v1.0//EN
CALSCALE:GREGORIAN
METHOD:PUBLISH
BEGIN:VEVENT
UID:69e77325eeaaa
DTSTAMP:20260421T125253Z
DTSTART:20260530T230000Z
DTEND:20260531T010000Z
LOCATION:RiverScape MetroPark
SUMMARY:RiverScape 2026 Summer Music
DESCRIPTION:2026 Summer Music Series Lineup May 30 – Bluegrass Concert wi
 th Bourbon Revival June 5 – 70s+80s Rock Concert with Cassette Junkies Ju
 ne 12 – Big Band Concert with Central Jazz Big Band June 26 – 90s Party
  with Zach Attack July 10 – Big Band Concert with Kim Kelly[..]\nhttps://
 ohparent.com/events/riverscape-2026-summer-music/
URL:https://ohparent.com/events/riverscape-2026-summer-music/
END:VEVENT
END:VCALENDAR