BEGIN:VCALENDAR
VERSION:2.0
PRODID:-//eventon.com NONSGML v1.0//EN
CALSCALE:GREGORIAN
METHOD:PUBLISH
BEGIN:VEVENT
UID:69e7d1afac38f
DTSTAMP:20260421T193615Z
DTSTART:20260404T170000Z
DTEND:20260404T190000Z
LOCATION:New Richmond School&#039;s Football Stadium 1141 Bethel New Richmond Road New Richmond\,  OH 45157
SUMMARY:11th Annual Operation Egg Drop
DESCRIPTION:This is our 11th Annual Operation Egg Drop to the New Richmond 
 and surrounding communities. Please register tickets for CHILDREN ONLY. Age
 s for this event are newborn to 5th grade. Adults DO NOT need a ticket but 
 will need to be with the child(ren) for the event. No children are[..]\nhtt
 ps://ohparent.com/events/annual-operation-egg-drop/
URL:https://ohparent.com/events/annual-operation-egg-drop/
END:VEVENT
END:VCALENDAR