BEGIN:VCALENDAR
VERSION:2.0
PRODID:-//eventon.com NONSGML v1.0//EN
CALSCALE:GREGORIAN
METHOD:PUBLISH
BEGIN:VEVENT
UID:69e6ed2929002
DTSTAMP:20260421T032113Z
DTSTART:20250419T140000Z
DTEND:20250419T190000Z
LOCATION:National Museum of the U.S. Air Force 1100 Spaatz Street\,  Wright-Patterson AFB\,  OH 45433
SUMMARY:Bunny Trail
DESCRIPTION:Hop on over to the Museum for our annual FREE Bunny Trail! Se
 arch for the giant inflatables throughout the Museum to find candy tables &
 #8212; don&#8217;t forget to bring your basket! Enjoy fun while keeping an 
 eye out for our special guest &#8212; everyone&#8217;s favorite Easter Bunn
 y will be stopping by! Don&#8217;t worry[..]\nhttps://ohparent.com/events/
 bunny-trail/
URL:https://ohparent.com/events/bunny-trail/
END:VEVENT
END:VCALENDAR