BEGIN:VCALENDAR
VERSION:2.0
PRODID:-//eventon.com NONSGML v1.0//EN
CALSCALE:GREGORIAN
METHOD:PUBLISH
BEGIN:VEVENT
UID:69e78591d36ab
DTSTAMP:20260421T141129Z
DTSTART:20250518T180000Z
DTEND:20250519T035900Z
LOCATION:Cincinnati Music Hall 650 WALNUT STREET CINCINNATI\,  OHIO 45202
SUMMARY:Chasing the Dawn: A Choral Journey
DESCRIPTION:Follow the unbroken path of light from sunset to sunrise as the
  May Festival Chorus\,  Chamber Choir\,  Youth Chorus and Cincinnati Boycho
 ir Ambassadors illuminate Springer Auditorium through song\,  staging and d
 ynamic lighting in a choral music event like never before. Program Works by
  Richard Strauss\,  Lili Boulanger\,  Morten Lauridsen and[..]\nhttps://ohp
 arent.com/events/chasing-the-dawn-a-choral-journey/
URL:https://ohparent.com/events/chasing-the-dawn-a-choral-journey/
END:VEVENT
END:VCALENDAR