BEGIN:VCALENDAR
VERSION:2.0
PRODID:-//eventon.com NONSGML v1.0//EN
CALSCALE:GREGORIAN
METHOD:PUBLISH
BEGIN:VEVENT
UID:69e674191fe41
DTSTAMP:20260420T184441Z
DTSTART:20260501T220000Z
DTEND:20260531T220000Z
LOCATION:Cincinnati Zoo &amp; Botanical Garden 3400 Vine Street\,  Cincinnati\,  OH 45220
SUMMARY:Zoo Babies
DESCRIPTION:Big babies and little ones are included in Cincinnati Zoo &
 amp; Botanical Garden’s Zoo Babies class of ’26! Follow the Zoo on 
 social media to see the babies in action throughout May.\nhttps://ohparent.
 com/events/zoo-babies/
URL:https://ohparent.com/events/zoo-babies/
END:VEVENT
END:VCALENDAR