BEGIN:VCALENDAR
VERSION:2.0
PRODID:-//eventon.com NONSGML v1.0//EN
CALSCALE:GREGORIAN
METHOD:PUBLISH
BEGIN:VEVENT
UID:69eb662073aa6
DTSTAMP:20260424T124624Z
DTSTART:20250510
DTEND:20250511
LOCATION:Front Street\,  Dayton 1001 East 2nd St\,  Dayton\,  OH 45402
SUMMARY:54th Annual Appalachian Festival
DESCRIPTION:Experience an unforgettable weekend at the 54th Annual Appalach
 ian Festival\,  one of the most highly anticipated spring events in the Cin
 cy region! Held during Mother&#8217;s Day Weekend\,  this family-friendly f
 estival brings the rich traditions of Appalachia to life with two full days
  of entertainment and cultural experiences. Enjoy the sounds[..]\nhttps://o
 hparent.com/events/54th-annual-appalachian-festival/
URL:https://ohparent.com/events/54th-annual-appalachian-festival/
END:VEVENT
END:VCALENDAR