BEGIN:VCALENDAR
VERSION:2.0
PRODID:-//eventon.com NONSGML v1.0//EN
CALSCALE:GREGORIAN
METHOD:PUBLISH
BEGIN:VEVENT
UID:69e4c95569323
DTSTAMP:20260419T122349Z
DTSTART:20250605T150000Z
DTEND:20250605T160000Z
LOCATION:Cincinnati Zoo &amp; Botanical Garden 3400 Vine Street\,  Cincinnati\,  OH 45220
SUMMARY:Reds Day at the Zoo
DESCRIPTION:Celebrate the Zoo’s 150th anniversary and The Cincinnati Reds
  at Reds Day at the Zoo! Don’t miss an exclusive Q&amp;A session with Red
 s players from 11:00am – 12:00pm at the Wings of Wonder Theater. Meet you
 r favorite Reds mascots with appearances from Rosie Red\,  Gapper\,  and Mr
 . Redlegs! The Cincinnati[..]\nhttps://ohparent.com/events/reds-day-at-the-
 zoo/
URL:https://ohparent.com/events/reds-day-at-the-zoo/
END:VEVENT
END:VCALENDAR