BEGIN:VCALENDAR
VERSION:2.0
PRODID:-//eventon.com NONSGML v1.0//EN
CALSCALE:GREGORIAN
METHOD:PUBLISH
BEGIN:VEVENT
UID:69e785e207838
DTSTAMP:20260421T141250Z
DTSTART:20250624T180000Z
DTEND:20250624T193000Z
LOCATION:Kentucky Railway Museum 136 S. Main Street\,  New Haven\,  KY 40051
SUMMARY:Summer Weekday Train Ride
DESCRIPTION:All aboard for summer family fun! Looking for a fun family acti
 vity this summer\,  planning a vacation for the summer? Take a nostalgic tr
 ip aboard L&amp;N’s Historic Lebanon Branch. You don’t want to miss thi
 s scenic and relaxing experience. It’s fun for the whole family! &nbsp;\n
 https://ohparent.com/events/summer-weekday-train-ride-3/
URL:https://ohparent.com/events/summer-weekday-train-ride-3/
END:VEVENT
END:VCALENDAR