BEGIN:VCALENDAR
VERSION:2.0
PRODID:-//eventon.com NONSGML v1.0//EN
CALSCALE:GREGORIAN
METHOD:PUBLISH
BEGIN:VEVENT
UID:69e4df4969ce4
DTSTAMP:20260419T135729Z
DTSTART:20250704T130000Z
DTEND:20250704T140000Z
LOCATION:
SUMMARY:Liberty Township 4th of July Parade
DESCRIPTION:Happy 4th of July! The annual parade begins at 9 a.m. on Tuesda
 y\,  July 4. It will start at Lakota East High School and end at Liberty Ju
 nior School. View the complete parade route on the event website.\nhttps://
 ohparent.com/events/liberty-township-4th-of-july-parade/
URL:https://ohparent.com/events/liberty-township-4th-of-july-parade/
END:VEVENT
END:VCALENDAR