BEGIN:VCALENDAR
VERSION:2.0
PRODID:-//eventon.com NONSGML v1.0//EN
CALSCALE:GREGORIAN
METHOD:PUBLISH
BEGIN:VEVENT
UID:69e4df8ab1c3a
DTSTAMP:20260419T135834Z
DTSTART:20250704T230000Z
DTEND:20250704T230000Z
LOCATION:Blue Ash Summit Park 4335 Glendale-Milford Road Cincinnati\,  OH 45242
SUMMARY:MadTree Red\,  White and Blue Ash
DESCRIPTION:The City of Blue Ash is excited to welcome Billy F Gibbons and
  the BFGs as this year’s headliner. Gibbons is known as the centerpiece 
 of ZZ Top and one of the world’s finest guitarists in the blues-rock idio
 m. He’ll be taking the stage at 8:15 p.m. The opener\,  Redferrin\,  one
  of Nashville’s[..]\nhttps://ohparent.com/events/madtree-red-white-and-bl
 ue-ash/
URL:https://ohparent.com/events/madtree-red-white-and-blue-ash/
END:VEVENT
END:VCALENDAR