BEGIN:VCALENDAR
VERSION:2.0
PRODID:-//eventon.com NONSGML v1.0//EN
CALSCALE:GREGORIAN
METHOD:PUBLISH
BEGIN:VEVENT
UID:69e798dc0b305
DTSTAMP:20260421T153348Z
DTSTART:20250712T140000Z
DTEND:20250712T210000Z
LOCATION:Cincinnati Museum Center 1301 Western Avenue\,  Cincinnati\,  OH 45203
SUMMARY:Health and Wellness Day
DESCRIPTION:Join and celebrate all things health and wellness! Experience a
  day of movement and music\,  art and nature\,  centered around community w
 ellness and resources to help you feel your best—mind\,  body and spirit.
  \nhttps://ohparent.com/events/health-and-wellness-day/
URL:https://ohparent.com/events/health-and-wellness-day/
END:VEVENT
END:VCALENDAR