BEGIN:VCALENDAR
VERSION:2.0
PRODID:-//eventon.com NONSGML v1.0//EN
CALSCALE:GREGORIAN
METHOD:PUBLISH
BEGIN:VEVENT
UID:69eb8e03c2323
DTSTAMP:20260424T153635Z
DTSTART:20260713T140000Z
DTEND:20260713T180000Z
LOCATION:Boonshoft Museum of Discovery 2600 DeWeese Pkwy\,  Dayton\,  OH 45414
SUMMARY:Sensory Sundays at Boonshoft
DESCRIPTION:Sensory Sundays provide increased accessibility for those with 
 sensory sensitivities to enjoy the museum without large crowds or extra sti
 muli. Our planetarium and Science Theater will be open and provide opportun
 ities to experience public programs tailored for Sensory Sundays. Support b
 ackpacks are also available at our Admissions desk\,  for Sensory[..]\nhttp
 s://ohparent.com/events/sensory-sundays-at-boonshoft-12/
URL:https://ohparent.com/events/sensory-sundays-at-boonshoft-12/
END:VEVENT
END:VCALENDAR