BEGIN:VCALENDAR
VERSION:2.0
PRODID:-//eventon.com NONSGML v1.0//EN
CALSCALE:GREGORIAN
METHOD:PUBLISH
BEGIN:VEVENT
UID:69e5ff91b3bb4
DTSTAMP:20260420T102729Z
DTSTART:20250717T140000Z
DTEND:20250717T160000Z
LOCATION:Fairgrounds Recreation Center 210 Fairground Road Xenia\,  OH 45385
SUMMARY:Teddy Bear Picnic
DESCRIPTION:Sometimes our teddy bears are our best friends and who better t
 o have some fun with than our besties! So bring your teddy and join us for 
 a fun afternoon picnic. Teach your teddy how to craft\,  read them a story\
 ,  play some teddy bear games and more. \nhttps://ohparent.com/events/tedd
 y-bear-picnic/
URL:https://ohparent.com/events/teddy-bear-picnic/
END:VEVENT
END:VCALENDAR