BEGIN:VCALENDAR
VERSION:2.0
PRODID:-//eventon.com NONSGML v1.0//EN
CALSCALE:GREGORIAN
METHOD:PUBLISH
BEGIN:VEVENT
UID:69e7a5054c8af
DTSTAMP:20260421T162541Z
DTSTART:20250708T190000Z
DTEND:20250708T230000Z
LOCATION:Ziegler Park 1322 Sycamore Street
SUMMARY:OTR Craft & Farmers Market
DESCRIPTION:FThe market features a diverse array of local vendors offering 
 fresh produce\,  handmade crafts\,  artisanal foods\,  and unique gifts. It
 &#8217;s part of the #BuyLocal513 campaign\,  aimed at supporting small bus
 inesses across the tri-state area . The event fosters a lively community at
 mosphere\,  often complemented by live music and family-friendly activities
 . \nhttps://ohparent.com/events/otr-craft-farmers-market/var/ri-1.l-L1
URL:https://ohparent.com/events/otr-craft-farmers-market/var/ri-1.l-L1
END:VEVENT
END:VCALENDAR