BEGIN:VCALENDAR
VERSION:2.0
PRODID:-//eventon.com NONSGML v1.0//EN
CALSCALE:GREGORIAN
METHOD:PUBLISH
BEGIN:VEVENT
UID:69e5e6d5e604a
DTSTAMP:20260420T084157Z
DTSTART:20250707T231000Z
DTEND:20250708T020000Z
LOCATION:Great American Ballpark 100 Joe Nuxhall Way\,  Cincinnati\,  OH 45202
SUMMARY:Reds vs. Marlins
DESCRIPTION:Come cheer on the Reds as they take on the Miami Marlins! Famil
 y Discount Days: Enjoy a special ticket offer on select dates throughout th
 e season. Some restrictions apply. Available in advance of game day only. T
 ickets available at reds.com/Family. Bark in the Park: Ticket packages avai
 lable for dogs and[..]\nhttps://ohparent.com/events/reds-vs-marlins/
URL:https://ohparent.com/events/reds-vs-marlins/
END:VEVENT
END:VCALENDAR