BEGIN:VCALENDAR
VERSION:2.0
PRODID:-//eventon.com NONSGML v1.0//EN
CALSCALE:GREGORIAN
METHOD:PUBLISH
BEGIN:VEVENT
UID:69e785e70bb3a
DTSTAMP:20260421T141255Z
DTSTART:20250731T231000Z
DTEND:20250801T020000Z
LOCATION:Great American Ballpark 100 Joe Nuxhall Way\,  Cincinnati\,  OH 45202
SUMMARY:Reds vs. Braves
DESCRIPTION:Come cheer on the Reds as they take on the Atlanta Braves! Anim
 e Ticket Package featuring My Hero Academia: Fans can purchase a special ti
 cket package that includes an exclusive “My Hero Academia” T-shirt. Mus
 t purchase your game ticket through this offer to receive the T-shirt. Avai
 lable while supplies last[..]\nhttps://ohparent.com/events/reds-vs-braves/
URL:https://ohparent.com/events/reds-vs-braves/
END:VEVENT
END:VCALENDAR