BEGIN:VCALENDAR
VERSION:2.0
PRODID:-//eventon.com NONSGML v1.0//EN
CALSCALE:GREGORIAN
METHOD:PUBLISH
BEGIN:VEVENT
UID:69e4f16e7110a
DTSTAMP:20260419T151454Z
DTSTART:20250815T230000Z
DTEND:20250816T020000Z
LOCATION:Cincinnati Nature Center 4949 Tealtown Road
SUMMARY:Music Under the Moon
DESCRIPTION:Registration Requirements: Preregistration required. This event
  is expected to sell out. Audience: This program is designed exclusively fo
 r adults ages 21 and older. All guests must present a valid ID upon entry. 
 Program Description: Summertime is back once again\,  and so\,  too\,  is M
 usic Under the Moon at Cincinnati Nature[..]\nhttps://ohparent.com/events/m
 usic-under-the-moon-2/
URL:https://ohparent.com/events/music-under-the-moon-2/
END:VEVENT
END:VCALENDAR