BEGIN:VCALENDAR
VERSION:2.0
PRODID:-//eventon.com NONSGML v1.0//EN
CALSCALE:GREGORIAN
METHOD:PUBLISH
BEGIN:VEVENT
UID:69e7e8cf6e949
DTSTAMP:20260421T211455Z
DTSTART:20250802T220000Z
DTEND:20250803T010000Z
LOCATION:Paycor Stadium 1 Paul Brown Stadium Cincinnati\,  Ohio 45202
SUMMARY:Saturday Night Stadium Practice
DESCRIPTION:The Bengals will hold a special Saturday Night Stadium Practice
  that is free and open to the public. Gates will open at 5 pm for fans to e
 njoy a variety of family-friendly activities and photo opportunities throug
 hout the stadium. \nhttps://ohparent.com/events/saturday-night-stadium-pra
 ctice/
URL:https://ohparent.com/events/saturday-night-stadium-practice/
END:VEVENT
END:VCALENDAR