BEGIN:VCALENDAR
VERSION:2.0
PRODID:-//eventon.com NONSGML v1.0//EN
CALSCALE:GREGORIAN
METHOD:PUBLISH
BEGIN:VEVENT
UID:69e9f2688fd59
DTSTAMP:20260423T102024Z
DTSTART:20251003T230000Z
DTEND:20251004T010000Z
LOCATION:Farbach-Werner Nature Preserve 3445 Poole Road\,  Cincinnati\,  OH 45251
SUMMARY:Butterflies & Brews
DESCRIPTION:Celebrate all things fall with the chance to play in the park a
 t this program just for adults! Enjoy tastings of fall favorites\,  take pa
 rt in monarch tagging\,  plant native seeds for your home garden\,  listen 
 to live music and hang by the fire while making a walnut-dyed project. Regi
 stration[..]\nhttps://ohparent.com/events/butterflies-brews/
URL:https://ohparent.com/events/butterflies-brews/
END:VEVENT
END:VCALENDAR