BEGIN:VCALENDAR
VERSION:2.0
PRODID:-//eventon.com NONSGML v1.0//EN
CALSCALE:GREGORIAN
METHOD:PUBLISH
BEGIN:VEVENT
UID:69e5fa1cd1a6c
DTSTAMP:20260420T100412Z
DTSTART:20251013T130000Z
DTEND:20251013T200000Z
LOCATION:Cincinnati Nature Center 4949 Tealtown Road
SUMMARY:School's Out! Creek Day Camp
DESCRIPTION:Immerse yourself in the watery worlds around Rowe Woods. Dig yo
 ur hands into natural clay as you follow the meandering creek\,  find fossi
 ls from ancient creatures\,  and lift rocks to see what animals call the cr
 eek their home. Come prepared to get muddy and wet as you explore aquatic h
 abitats[..]\nhttps://ohparent.com/events/schools-out-creek-day-camp/
URL:https://ohparent.com/events/schools-out-creek-day-camp/
END:VEVENT
END:VCALENDAR