BEGIN:VCALENDAR
VERSION:2.0
PRODID:-//eventon.com NONSGML v1.0//EN
CALSCALE:GREGORIAN
METHOD:PUBLISH
BEGIN:VEVENT
UID:69e7d387623bb
DTSTAMP:20260421T194407Z
DTSTART:20251017T140000Z
DTEND:20251017T151500Z
LOCATION:Cincinnati Nature Center 4949 Tealtown Road
SUMMARY:Little Scientists
DESCRIPTION:Registration Requirements: Preregistration required. Intended 
 Audience: This program is designed for children ages 4–6 with a caregive
 r. Children must be accompanied by an adult. Program Description: Get your
  feet wet and dip into your curiosity! Visit creeks and ponds where you get
  to be the scientist and make discoveries. Each session will be[..]\nhttps:
 //ohparent.com/events/little-scientists/
URL:https://ohparent.com/events/little-scientists/
END:VEVENT
END:VCALENDAR