BEGIN:VCALENDAR
VERSION:2.0
PRODID:-//eventon.com NONSGML v1.0//EN
CALSCALE:GREGORIAN
METHOD:PUBLISH
BEGIN:VEVENT
UID:69eb4aa300bfd
DTSTAMP:20260424T104907Z
DTSTART:20251127T133000Z
DTEND:20251127T160000Z
LOCATION:TQL Stadium 1501 Central Parkway
SUMMARY:Western & Southern Thanksgiving Day Race
DESCRIPTION:Date: Thursday\,  November 27 Time: 8:30 am Location: TQL Stadi
 um The Western &amp; Southern Thanksgiving Day Race features three races: t
 he Western &amp; Southern 10K\,  the Chick-fil-A 5K\,  and the ProAmpac Kid
 s Fun Run. All races will finish at TQL Stadium\,  where participants can e
 njoy snacks and refreshments at the[..]\nhttps://ohparent.com/events/wester
 n-southern-thanksgiving-day-race/
URL:https://ohparent.com/events/western-southern-thanksgiving-day-race/
END:VEVENT
END:VCALENDAR