BEGIN:VCALENDAR
VERSION:2.0
PRODID:-//eventon.com NONSGML v1.0//EN
CALSCALE:GREGORIAN
METHOD:PUBLISH
BEGIN:VEVENT
UID:69e7a4dd74dd2
DTSTAMP:20260421T162501Z
DTSTART:20250919T220000Z
DTEND:20250919T233000Z
LOCATION:Cox Arboretum MetroPark 6733 Springboro Pk.\,  Miamisburg\,  OH\,  45459
SUMMARY:Monarch Health
DESCRIPTION:Learn about the parasite that is impacting some monarch populat
 ions. Then try your hand at catching a monarch and performing a simple test
  to determine its health. Weather Dependent. This series for ages 3-13 nurt
 ures kids&#8217; desire to explore nature and empowers them to speak out fo
 r the planet they[..]\nhttps://ohparent.com/events/monarch-health/
URL:https://ohparent.com/events/monarch-health/
END:VEVENT
END:VCALENDAR