BEGIN:VCALENDAR
VERSION:2.0
PRODID:-//eventon.com NONSGML v1.0//EN
CALSCALE:GREGORIAN
METHOD:PUBLISH
BEGIN:VEVENT
UID:69e7bdeb7a8da
DTSTAMP:20260421T181155Z
DTSTART:20250920T200000Z
DTEND:20250920T210000Z
LOCATION:RiverScape MetroPark
SUMMARY:22nd Annual United Rehabilitation Services Rubber Duck Regatta
DESCRIPTION:At least 20\, 000 rubber ducks will be dropped from the bridge 
 for a race to the finish at RiverScape MetroPark\,  in conjunction with the
  Hispanic Heritage Festival. Proceeds from this family-friendly event benef
 it local children and adults with disabilities! Weather Dependent.\nhttps:/
 /ohparent.com/events/22nd-annual-united-rehabilitation-services-rubber-duck
 -regatta/
URL:https://ohparent.com/events/22nd-annual-united-rehabilitation-services-rubber-duck-regatta/
END:VEVENT
END:VCALENDAR