BEGIN:VCALENDAR
VERSION:2.0
PRODID:-//eventon.com NONSGML v1.0//EN
CALSCALE:GREGORIAN
METHOD:PUBLISH
BEGIN:VEVENT
UID:69e7d02e91cf1
DTSTAMP:20260421T192950Z
DTSTART:20250910T213000Z
DTEND:20250911T003000Z
LOCATION:Yeatman&#039;s Cove 705 E Pete Rose Way Cincinnati OH 45202
SUMMARY:Cincinnati Magazine presents Slice Night 2025
DESCRIPTION:Cincinnati Magazine’s 12th annual Slice Night returns to Yeat
 man&#8217;s Cove for an evening of all-you-can-eat pizza benefiting an incr
 edible cause. Slice Night 2025 is set for Wednesday\,  September 10 from 5:
 30-8:30 p.m. in support of the University of Cincinnati Cancer Center. Slic
 e Night is a family-friendly\,  outdoor event along the[..]\nhttps://ohpare
 nt.com/events/cincinnati-magazine-presents-slice-night-2025/
URL:https://ohparent.com/events/cincinnati-magazine-presents-slice-night-2025/
END:VEVENT
END:VCALENDAR