BEGIN:VCALENDAR
VERSION:2.0
PRODID:-//eventon.com NONSGML v1.0//EN
CALSCALE:GREGORIAN
METHOD:PUBLISH
BEGIN:VEVENT
UID:69e7dcaf93887
DTSTAMP:20260421T202311Z
DTSTART:20250914T190000Z
DTEND:20250914T230000Z
LOCATION:Findlay Market 1801 Race St. Cincinnati\,  Ohio 45202
SUMMARY:Queer BBQ Night
DESCRIPTION:Join us at Findlay Market for the first ever Queer BBQ Night on
  Sunday\,  September 14th at 3 PM! In the spirit of Queer Soup Night\,  Que
 er BBQ Night is a day for community care\,  queer joy\,  radical generosity
 \,  and of course\,  amazing food. All proceeds will support queer and[..]\
 nhttps://ohparent.com/events/queer-bbq-night/
URL:https://ohparent.com/events/queer-bbq-night/
END:VEVENT
END:VCALENDAR