BEGIN:VCALENDAR
VERSION:2.0
PRODID:-//eventon.com NONSGML v1.0//EN
CALSCALE:GREGORIAN
METHOD:PUBLISH
BEGIN:VEVENT
UID:69e74929b7125
DTSTAMP:20260421T095345Z
DTSTART:20250910T220000Z
DTEND:20250911T003000Z
LOCATION:Krohn Conservatory 1501 Eden Park Dr\,  Cincinnati\,  OH 45202
SUMMARY:Game Night at Krohn Conservatory
DESCRIPTION:Krohn Conservatory has partnered with Woodburn Games to help br
 ing strategy board gaming to the public! Join us during our Fall Show\,  â€
 ˜A Healing Gardenâ€™\,  for a series of game nights.Â \nhttps://ohparent.co
 m/events/game-night-at-krohn-conservatory-2/
URL:https://ohparent.com/events/game-night-at-krohn-conservatory-2/
END:VEVENT
END:VCALENDAR