BEGIN:VCALENDAR
VERSION:2.0
PRODID:-//eventon.com NONSGML v1.0//EN
CALSCALE:GREGORIAN
METHOD:PUBLISH
BEGIN:VEVENT
UID:69e7360d13ced
DTSTAMP:20260421T083213Z
DTSTART:20250916T233000Z
DTEND:20250917T010000Z
LOCATION:Cincinnati Music Hall 650 WALNUT STREET CINCINNATI\,  OHIO 45202
SUMMARY:From Beethoven to Hindemith
DESCRIPTION:Three composers. Three centuries. Trace the bold evolution of c
 hamber music from the elegance of the Classical era to the vibrant edge of 
 modernism. \nhttps://ohparent.com/events/from-beethoven-to-hindemith/
URL:https://ohparent.com/events/from-beethoven-to-hindemith/
END:VEVENT
END:VCALENDAR