BEGIN:VCALENDAR
VERSION:2.0
PRODID:-//eventon.com NONSGML v1.0//EN
CALSCALE:GREGORIAN
METHOD:PUBLISH
BEGIN:VEVENT
UID:69e60b0706af6
DTSTAMP:20260420T111623Z
DTSTART:20250925T233000Z
DTEND:20250926T010000Z
LOCATION:The Schuster Center\,  Dayton 1 W 2nd Street
SUMMARY:Avatar: The Last Airbender In Concert
DESCRIPTION:Celebrate 20 years of elemental storytelling\,  unforgettable c
 haracters\,  and the epic journey that defined a generation! AVATAR: THE LA
 ST AIRBENDER IN CONCERT – THE 20TH ANNIVERSARY TOUR presents a stunning
  live orchestral performance of the series’ beloved soundtrack\,  now ele
 vated with a once-in-a-lifetime cinematic experience. This special annivers
 ary edition features a[..]\nhttps://ohparent.com/events/avatar-the-last-air
 bender-in-concert/
URL:https://ohparent.com/events/avatar-the-last-airbender-in-concert/
END:VEVENT
END:VCALENDAR