BEGIN:VCALENDAR
VERSION:2.0
PRODID:-//eventon.com NONSGML v1.0//EN
CALSCALE:GREGORIAN
METHOD:PUBLISH
BEGIN:VEVENT
UID:69e80f500a7d9
DTSTAMP:20260421T235912Z
DTSTART:20251011T230000Z
DTEND:20251012T035900Z
LOCATION:Cincinnati Observatory Center 3489 Observatory Pl.\,  Cincinnati\,  OH 45208
SUMMARY:Saturnday
DESCRIPTION:Saturn is back in the night sky! The Cincinnati Observatory cel
 ebrates its return every year with our Saturnday Event. The ringed planet i
 s the star of the show at this festival which will feature informative talk
 s on Saturn\,  face painting\,  Permanent Jewelry from Arch&amp;Charm\,  fo
 od trucks\,  building tours\,  night sky[..]\nhttps://ohparent.com/events/s
 aturnday/
URL:https://ohparent.com/events/saturnday/
END:VEVENT
END:VCALENDAR