BEGIN:VCALENDAR
VERSION:2.0
PRODID:-//eventon.com NONSGML v1.0//EN
CALSCALE:GREGORIAN
METHOD:PUBLISH
BEGIN:VEVENT
UID:69e7b83f30ce3
DTSTAMP:20260421T174743Z
DTSTART:20251019T200000Z
DTEND:20251019T220000Z
LOCATION:The Dent Schoolhouse 5963 Harrison Ave. Cincinnati OH 45248
SUMMARY:Lights On @ Dent
DESCRIPTION:Experience The Dent Schoolhouse with the lights on! Trick-or-tr
 eat through the halls of Dent and experience family friendly monsters. Cand
 y and prize stations will be located throughout the haunt Have little-ones 
 or just want to look at all the detail? Then the Lights On Show is just for
  you! Guests[..]\nhttps://ohparent.com/events/lights-on-dent/
URL:https://ohparent.com/events/lights-on-dent/
END:VEVENT
END:VCALENDAR