BEGIN:VCALENDAR
VERSION:2.0
PRODID:-//eventon.com NONSGML v1.0//EN
CALSCALE:GREGORIAN
METHOD:PUBLISH
BEGIN:VEVENT
UID:69e7c9d57302b
DTSTAMP:20260421T190245Z
DTSTART:20251024T220000Z
DTEND:20251026T020000Z
LOCATION:The Morrow Arts Center 10 Miranda St. Morrow\,  OH 45152
SUMMARY:Spookyville 2025
DESCRIPTION:Kick off Spookyville weekend with a night of thrills\,  live mu
 sic\,  and pumpkin mayhem! Explore our historic 100-year-old schoolhouse wi
 th 30+ shops\,  trick-or-treating\,  and late-night shopping\,  then head o
 utdoors for unforgettable fall fun. ✨ Friday Highlights: Pumpkin SmashFes
 t – Smash\,  carve\,  paint\,  and bowl pumpkins! All pumpkins are recycl
 ed into[..]\nhttps://ohparent.com/events/spookyville-2025/
URL:https://ohparent.com/events/spookyville-2025/
END:VEVENT
END:VCALENDAR