BEGIN:VCALENDAR
VERSION:2.0
PRODID:-//eventon.com NONSGML v1.0//EN
CALSCALE:GREGORIAN
METHOD:PUBLISH
BEGIN:VEVENT
UID:69e7732ae7c27
DTSTAMP:20260421T125258Z
DTSTART:20251008T213000Z
DTEND:20251008T223000Z
LOCATION:James Ranch Park 210 Fairground Rd. Xenia\, Ohio
SUMMARY:Little Sprouts Pumpkin Farm
DESCRIPTION:If you have ever enjoyed the Great Pumpkin Patch\,  we have des
 igned a program with the same great fun but for our Little Sprouts\,  ages 
 2 &amp; 3. The Little Sprouts Pumpkin Farm is open and ready for customers!
   Join us for a pumpkin themed journey as we take you[..]\nhttps://ohparen
 t.com/events/little-sprouts-pumpkin-farm/
URL:https://ohparent.com/events/little-sprouts-pumpkin-farm/
END:VEVENT
END:VCALENDAR