BEGIN:VCALENDAR
VERSION:2.0
PRODID:-//eventon.com NONSGML v1.0//EN
CALSCALE:GREGORIAN
METHOD:PUBLISH
BEGIN:VEVENT
UID:69e798abe8db2
DTSTAMP:20260421T153259Z
DTSTART:20251011T220000Z
DTEND:20251012T020000Z
LOCATION:Contemporary Arts Center 44 East 6th Street
SUMMARY:Market Bleu | 2025 Fall Quarter Event
DESCRIPTION:Market Bleu is a quarterly event that allows artisans and artis
 ts to showcase and sell their products in the opulent settings of the Conte
 mporary Arts Center (CAC)\,  in the heart of downtown Cincinnati. This even
 ing event will truly be enriched by your participation! We will showcase th
 e artistic process with[..]\nhttps://ohparent.com/events/market-bleu-2025-f
 all-quarter-event/
URL:https://ohparent.com/events/market-bleu-2025-fall-quarter-event/
END:VEVENT
END:VCALENDAR