BEGIN:VCALENDAR
VERSION:2.0
PRODID:-//eventon.com NONSGML v1.0//EN
CALSCALE:GREGORIAN
METHOD:PUBLISH
BEGIN:VEVENT
UID:69e7d01aacaeb
DTSTAMP:20260421T192930Z
DTSTART:20251018T230000Z
DTEND:20251019T010000Z
LOCATION:Caldwell Nature Preserve 430 W. North Bend Rd. Cincinnati\,  OH 45216
SUMMARY:Magic Forest Jack O' Lantern Hike
DESCRIPTION:$5 per person (ages 3 and up) Join us for a dark October night 
 through the woods on a trail illuminated by Jack-o-lanterns and luminaries\
 ,  carved by volunteers and students from the community. This special event
  is perfect for a romantic date or a peaceful family outing. Experience the
  magic[..]\nhttps://ohparent.com/events/magic-forest-jack-o-lantern-hike/
URL:https://ohparent.com/events/magic-forest-jack-o-lantern-hike/
END:VEVENT
END:VCALENDAR