BEGIN:VCALENDAR
VERSION:2.0
PRODID:-//eventon.com NONSGML v1.0//EN
CALSCALE:GREGORIAN
METHOD:PUBLISH
BEGIN:VEVENT
UID:69e772a928a21
DTSTAMP:20260421T125049Z
DTSTART:20260118T210000Z
DTEND:20260118T223000Z
LOCATION:Winton Woods 10245 Winton Road\,  Cincinnati\,  OH 45218
SUMMARY:Fireside Feasts
DESCRIPTION:Gather around the fire for good food and company at this cozy o
 utdoor cooking experience! From cobblers to frittatas\,  learn to prepare d
 elicious. farm-fresh meals using seasonal ingredients over an open flame. S
 easoned cooks and those hungry for new skills are invited to test their cre
 ativity in a supportive environment.\nhttps://ohparent.com/events/fireside-
 feasts/var/ri-1.l-L1
URL:https://ohparent.com/events/fireside-feasts/var/ri-1.l-L1
END:VEVENT
END:VCALENDAR