BEGIN:VCALENDAR
VERSION:2.0
PRODID:-//eventon.com NONSGML v1.0//EN
CALSCALE:GREGORIAN
METHOD:PUBLISH
BEGIN:VEVENT
UID:69e6f85b3f252
DTSTAMP:20260421T040859Z
DTSTART:20251013T000000Z
DTEND:20251013T011500Z
LOCATION:Cincinnati Nature Center – Rowe Woods 4949 Tealtown Road  Milford\,  OH 45150
SUMMARY:Family Flying Squirrel Watch
DESCRIPTION:Intended Audience: This program is designed for adults and chil
 dren ages 5 and up. Children must be accompanied by an adult. Program Descr
 iption: Flying squirrels are usually hidden in the forest\,  but they are m
 ore active at dusk. After a brief indoor orientation\,  we’ll head out to
  our flying squirrel[..]\nhttps://ohparent.com/events/family-flying-squirre
 l-watch/
URL:https://ohparent.com/events/family-flying-squirrel-watch/
END:VEVENT
END:VCALENDAR