BEGIN:VCALENDAR
VERSION:2.0
PRODID:-//eventon.com NONSGML v1.0//EN
CALSCALE:GREGORIAN
METHOD:PUBLISH
BEGIN:VEVENT
UID:69e7d28dc4a51
DTSTAMP:20260421T193957Z
DTSTART:20251121T003000Z
DTEND:20251121T045900Z
LOCATION:Victoria Theatre 138 N. Main Street
SUMMARY:Twilight In Concert
DESCRIPTION:Step into the world of Twilight like never before with TWILI
 GHT IN CONCERT\,  an immersive cinematic event that brings the beloved saga
  to life through music. Featuring a breathtaking performance by a 12-piece 
 ensemble of rock and orchestral musicians\,  this extraordinary experience 
 allows fans to relive Bella and Edward’s epic love story in[..]\nhttps://
 ohparent.com/events/twilight-in-concert/
URL:https://ohparent.com/events/twilight-in-concert/
END:VEVENT
END:VCALENDAR