BEGIN:VCALENDAR
VERSION:2.0
PRODID:-//eventon.com NONSGML v1.0//EN
CALSCALE:GREGORIAN
METHOD:PUBLISH
BEGIN:VEVENT
UID:69eb6d0445ee0
DTSTAMP:20260424T131548Z
DTSTART:20251205T230000Z
DTEND:20251206T020000Z
LOCATION:Downtown Williamsburg Williamsburg\,  OH 45176-1342
SUMMARY:Trains of Williamsburg Christmas Walk
DESCRIPTION:SAVE THE DATE 🎄Trains of Williamsburg Christmas Walk 🗓Fri
 day\,  December 5\,  2025 | ⏰ 6:00–9:00 PM Celebrate decades of small-t
 own holiday charm as Main Street lights up with festive fun for all ages! E
 njoy: 🚒 Fire ruck rides 🎠 Horse-drawn trolley rides 🎅 A visit from
  Santa 🎟️ Conductor Card[..]\nhttps://ohparent.com/events/trains-of-wi
 lliamsburg-christmas-walk/
URL:https://ohparent.com/events/trains-of-williamsburg-christmas-walk/
END:VEVENT
END:VCALENDAR