BEGIN:VCALENDAR
VERSION:2.0
PRODID:-//eventon.com NONSGML v1.0//EN
CALSCALE:GREGORIAN
METHOD:PUBLISH
BEGIN:VEVENT
UID:69eb4f22bdd51
DTSTAMP:20260424T110818Z
DTSTART:20251207T003000Z
DTEND:20251207T045900Z
LOCATION:Downtown Hudson 1140 Terex Road Hudson\,  OH 44236
SUMMARY:Winter Fireworks & Holiday Lights
DESCRIPTION:Hudson’s Winter Fireworks start the holiday season with a ban
 g on Saturday\,  December 6\,  2025\,  at 7:30 p.m. in downtown Hudson.  B
 ring your lawn chairs and settle on one of our downtown greens for the best
  view. The event is sponsored by the Hudson Community Foundation and the fi
 reworks are[..]\nhttps://ohparent.com/events/winter-fireworks-holiday-light
 s/
URL:https://ohparent.com/events/winter-fireworks-holiday-lights/
END:VEVENT
END:VCALENDAR