BEGIN:VCALENDAR
VERSION:2.0
PRODID:-//eventon.com NONSGML v1.0//EN
CALSCALE:GREGORIAN
METHOD:PUBLISH
BEGIN:VEVENT
UID:69e7f936da3ca
DTSTAMP:20260421T222454Z
DTSTART:20251122T220000Z
DTEND:20251123T000000Z
LOCATION:Village Green Park  301 Wessel Drive Fairfield\,  OH 45014
SUMMARY:7th Annual Parade of Lights
DESCRIPTION:Celebrate the holiday season with the 7th annual Fairfield Para
 de of Lights! The parade steps off at 6pm from Waterworks Park and ends are
  Village Green Park. A Holiday Shop\,  performances\,  and activities start
  at 5pm at Village Green Park and the Fairfield Community Arts Center. Be P
 art of the[..]\nhttps://ohparent.com/events/7th-annual-parade-of-lights/
URL:https://ohparent.com/events/7th-annual-parade-of-lights/
END:VEVENT
END:VCALENDAR