BEGIN:VCALENDAR
VERSION:2.0
PRODID:-//eventon.com NONSGML v1.0//EN
CALSCALE:GREGORIAN
METHOD:PUBLISH
BEGIN:VEVENT
UID:69e81fffd3d41
DTSTAMP:20260422T011023Z
DTSTART:20251206T140000Z
DTEND:20251207T045900Z
LOCATION:Dave and Buster&#039;s - Cincinnati 11775 Commons Drive Springdale OH 45246
SUMMARY:Dave & Buster's Breakfast with Santa
DESCRIPTION:It&#8217;s Time for Dave &amp; Buster&#8217;s Annual Breakfast
  with Santa! A Holly Jolly Magical Morning filled with fun &amp; festivitie
 s for the whole family to enjoy!    Kick off the season with sparkle and
  cheer at our exclusive Breakfast with Santa event! Before doors open to th
 e public\,  your family gets VIP early[..]\nhttps://ohparent.com/events/da
 ve-busters-breakfast-with-santa/
URL:https://ohparent.com/events/dave-busters-breakfast-with-santa/
END:VEVENT
END:VCALENDAR