BEGIN:VCALENDAR
VERSION:2.0
PRODID:-//eventon.com NONSGML v1.0//EN
CALSCALE:GREGORIAN
METHOD:PUBLISH
BEGIN:VEVENT
UID:69eb33a3bf3a7
DTSTAMP:20260424T091059Z
DTSTART:20251206T140000Z
DTEND:20251206T153000Z
LOCATION:University of Dayton Kennedy Union 300 College Park\,  Dayton\,  OH 45469
SUMMARY:Dayton Breakfast with Santa
DESCRIPTION:As Christmas approaches\,  take a moment to have breakfast with
  Santa and your Flyer family! Your University of Dayton Alumni Association 
 is hosting a pancake breakfast for families on campus.\nhttps://ohparent.co
 m/events/dayton-breakfast-with-santa/
URL:https://ohparent.com/events/dayton-breakfast-with-santa/
END:VEVENT
END:VCALENDAR