BEGIN:VCALENDAR
VERSION:2.0
PRODID:-//eventon.com NONSGML v1.0//EN
CALSCALE:GREGORIAN
METHOD:PUBLISH
BEGIN:VEVENT
UID:69e8225e0f372
DTSTAMP:20260422T012030Z
DTSTART:20251206T130000Z
DTEND:20251206T143000Z
LOCATION:Cincinnati Museum Center 1301 Western Avenue\,  Cincinnati\,  OH 45203
SUMMARY:Pancakes with Santa at CMC
DESCRIPTION:Santa can’t survive on cookies alone. Join the jolly fellow f
 or breakfast and enjoy a top-your-own pancake buffet complete with whipped 
 cream and toppings sweeter than any sugar plums. This exclusive Member expe
 rience includes craft stations\,  face painting and a special gift for each
  Member family.\nhttps://ohparent.com/events/pancakes-with-santa-at-cmc/
URL:https://ohparent.com/events/pancakes-with-santa-at-cmc/
END:VEVENT
END:VCALENDAR