BEGIN:VCALENDAR
VERSION:2.0
PRODID:-//eventon.com NONSGML v1.0//EN
CALSCALE:GREGORIAN
METHOD:PUBLISH
BEGIN:VEVENT
UID:69e7d0249b9e9
DTSTAMP:20260421T192940Z
DTSTART:20251214T130000Z
DTEND:20251214T150000Z
LOCATION:Newport Aquarium One Aquarium Way\,  Newport KY
SUMMARY:F.I.S.H. – Scuba Santa
DESCRIPTION:F.I.S.H &#8211; Scuba Santa Scuba Santa will be making an appea
 rance during our Family Inclusive Sensory Hours on December 14\,  2025! Cel
 ebrate this one-of-a-kind Cincinnati holiday tradition in an environment wi
 th accommodations to various sensory sensitivities. Guests will have an opp
 ortunity to meet Scuba Santa while he swims with sharks.[..]\nhttps://ohpar
 ent.com/events/f-i-s-h-scuba-santa/
URL:https://ohparent.com/events/f-i-s-h-scuba-santa/
END:VEVENT
END:VCALENDAR