BEGIN:VCALENDAR
VERSION:2.0
PRODID:-//eventon.com NONSGML v1.0//EN
CALSCALE:GREGORIAN
METHOD:PUBLISH
BEGIN:VEVENT
UID:69e5ff6599c67
DTSTAMP:20260420T102645Z
DTSTART:20260111T163000Z
DTEND:20260111T193000Z
LOCATION:Receptions Conference Center 1379 Donaldson Hwy\,  Erlanger\,  KY 41018
SUMMARY:Second Sunday Brunch Fairfield
DESCRIPTION:A Sunday to Savor: Our Monthly Second Sunday Brunch offers a pr
 emier buffet experience for the whole family. Indulge in an expansive selec
 tion featuring a made-to-order omelet station\,  warm Belgian waffles with 
 sweet fruit toppings\,  and a variety of savory breakfast and lunch entrée
 s. While you savor the meal\,  keep[..]\nhttps://ohparent.com/events/second
 -sunday-brunch-fairfield/
URL:https://ohparent.com/events/second-sunday-brunch-fairfield/
END:VEVENT
END:VCALENDAR