BEGIN:VCALENDAR
VERSION:2.0
PRODID:-//eventon.com NONSGML v1.0//EN
CALSCALE:GREGORIAN
METHOD:PUBLISH
BEGIN:VEVENT
UID:69e80d4e70b0f
DTSTAMP:20260421T235038Z
DTSTART:20260530T130000Z
DTEND:20260530T170000Z
LOCATION:East Fork State Park 3294 Elklick Road\,  Bethel\,  OH 45106
SUMMARY:Beast of the East Fork
DESCRIPTION:Whether you&#8217;re a competitive solo athlete or a family of 
 four\,  The Beast will match your intensity. It’s an all-out adventure th
 rough the woods and fields of beautiful East Fork State Park. Run\,  jump\,
   and climb your way along trails and hillsides as you encounter a multitud
 e of natural and[..]\nhttps://ohparent.com/events/beast-of-the-east-fork/
URL:https://ohparent.com/events/beast-of-the-east-fork/
END:VEVENT
END:VCALENDAR