BEGIN:VCALENDAR
VERSION:2.0
PRODID:-//eventon.com NONSGML v1.0//EN
CALSCALE:GREGORIAN
METHOD:PUBLISH
BEGIN:VEVENT
UID:69e7d30279f16
DTSTAMP:20260421T194154Z
DTSTART:20260322T120000Z
DTEND:20260323T035900Z
LOCATION:Cincinnati Zoo &amp; Botanical Garden 3400 Vine Street\,  Cincinnati\,  OH 45220
SUMMARY:Cheetah Run 5K
DESCRIPTION:AfterÂ a 6-year hiatus\, Â the beloved Cincinnati Zoo &amp; Bot
 anical Gardenâ€™s Cheetah Run 5K isÂ BACK! Get ready for a wild run you won
 â€™t forget! Youâ€™ll dash past cheetahs\,  lions\,  giraffes\,  bears\,  o
 tters\,  zebras\,  and more as the race path winds right by their habitatsâ
 €”talk about the ultimate spectators! Run or walk for[..]\nhttps://ohparent
 .com/events/cheetah-run-5k/
URL:https://ohparent.com/events/cheetah-run-5k/
END:VEVENT
END:VCALENDAR