BEGIN:VCALENDAR
VERSION:2.0
PRODID:-//eventon.com NONSGML v1.0//EN
CALSCALE:GREGORIAN
METHOD:PUBLISH
BEGIN:VEVENT
UID:69e7493e39a49
DTSTAMP:20260421T095406Z
DTSTART:20260429T143000Z
DTEND:20260429T163000Z
LOCATION:Glenwood Gardens 10397 Springfield Pike\,  Cincinnati\,  OH 45215
SUMMARY:Outdoor Kids Academy: All About Archaeology
DESCRIPTION:Become an archaeologist for the day through hands-on activities
 \,  perfect for homeschoolers and young explorers! Discover the mysteries o
 f humanity&#8217;s past\,  uncover stories from long ago and piece together
  clues and artifacts. Dress for the weather. Children must be accompanied b
 y an adult.\nhttps://ohparent.com/events/outdoor-kids-academy-all-about-arc
 haeology/
URL:https://ohparent.com/events/outdoor-kids-academy-all-about-archaeology/
END:VEVENT
END:VCALENDAR