BEGIN:VCALENDAR
VERSION:2.0
PRODID:-//eventon.com NONSGML v1.0//EN
CALSCALE:GREGORIAN
METHOD:PUBLISH
BEGIN:VEVENT
UID:69e6c3df9601a
DTSTAMP:20260421T002503Z
DTSTART:20260425T130000Z
DTEND:20260425T210000Z
LOCATION:Pyramid Hill Sculpture Park 1763 Hamilton-Cleves Road\,  State Route 128\,  Hamilton\,  Ohio 45013
SUMMARY:Art & Earth Day Presented by Synchrony
DESCRIPTION:Join us for a full day of activities\,  education\,  and demons
 trations celebrating Earth Day\,  Arbor Day\,  and International Sculpture 
 Day. See all new site specific sculptures created by regional student artis
 ts\,  and learn about native plants with the Miami Hamilton Conservatory. G
 et creative with an interactive craft for kids and[..]\nhttps://ohparent.co
 m/events/art-earth-day-presented-by-synchrony/
URL:https://ohparent.com/events/art-earth-day-presented-by-synchrony/
END:VEVENT
END:VCALENDAR